BEGIN:VCALENDAR
PRODID:-//spiritec//spiritec media library//EN
VERSION:2.0
METHOD:PUBLISH
BEGIN:VEVENT
UID:ical-2026-10-16-2322
DTSTART:20261016T173000Z
DTSTAMP:20260424T034443Z
LOCATION:Großes Haus
SUMMARY:On the Town
DESCRIPTION:
CREATED:20260424T034443Z
DTEND:20261016T201500Z
END:VEVENT
END:VCALENDAR
