BEGIN:VCALENDAR
PRODID:-//spiritec//spiritec media library//EN
VERSION:2.0
METHOD:PUBLISH
BEGIN:VEVENT
UID:ical-2026-10-22-2323
DTSTART:20261022T173000Z
DTSTAMP:20260424T035039Z
LOCATION:Großes Haus
SUMMARY:On the Town
DESCRIPTION:
CREATED:20260424T035039Z
DTEND:20261022T201500Z
END:VEVENT
END:VCALENDAR
