BEGIN:VCALENDAR
PRODID:-//spiritec//spiritec media library//EN
VERSION:2.0
METHOD:PUBLISH
BEGIN:VEVENT
UID:ical-2026-11-08-2325
DTSTART:20261108T173000Z
DTSTAMP:20260424T034941Z
LOCATION:Großes Haus
SUMMARY:On the Town
DESCRIPTION:
CREATED:20260424T034941Z
DTEND:20261108T201500Z
END:VEVENT
END:VCALENDAR
