BEGIN:VCALENDAR
PRODID:-//spiritec//spiritec media library//EN
VERSION:2.0
METHOD:PUBLISH
BEGIN:VEVENT
UID:ical-2026-06-30-2334
DTSTART:20260630T173000Z
DTSTAMP:20260424T034707Z
LOCATION:FOYER III
SUMMARY:Gi3F (Gott ist drei Frauen)
DESCRIPTION:
CREATED:20260424T034707Z
DTEND:20260630T191000Z
END:VEVENT
END:VCALENDAR
